BEGIN:VCALENDAR
VERSION:2.0
PRODID:-//Saraki - ECPv6.0.1.1//NONSGML v1.0//EN
CALSCALE:GREGORIAN
METHOD:PUBLISH
X-ORIGINAL-URL:https://www.saraki.org
X-WR-CALDESC:Events for Saraki
REFRESH-INTERVAL;VALUE=DURATION:PT1H
X-Robots-Tag:noindex
X-PUBLISHED-TTL:PT1H
BEGIN:VTIMEZONE
TZID:America/Asuncion
BEGIN:STANDARD
TZOFFSETFROM:-0300
TZOFFSETTO:-0400
TZNAME:-04
DTSTART:20220327T030000
END:STANDARD
BEGIN:DAYLIGHT
TZOFFSETFROM:-0400
TZOFFSETTO:-0300
TZNAME:-03
DTSTART:20221002T040000
END:DAYLIGHT
END:VTIMEZONE
BEGIN:VEVENT
DTSTART;VALUE=DATE:20220423
DTEND;VALUE=DATE:20220424
DTSTAMP:20260421T084353
CREATED:20220223T154611Z
LAST-MODIFIED:20220307T010838Z
UID:4224-1650672000-1650758399@www.saraki.org
SUMMARY:Presentación de la APP Saraki Conecta\, y Primera Maphaton
DESCRIPTION:
URL:https://www.saraki.org/event/presentacion-de-la-app-saraki-conecta-y-primera-maphaton/
CATEGORIES:Eventos
ATTACH;FMTTYPE=image/jpeg:https://www.saraki.org/wp-content/uploads/2022/02/2-scaled.jpg
END:VEVENT
BEGIN:VEVENT
DTSTART;VALUE=DATE:20220315
DTEND;VALUE=DATE:20220316
DTSTAMP:20260421T084353
CREATED:20220223T154039Z
LAST-MODIFIED:20220307T010907Z
UID:4221-1647302400-1647388799@www.saraki.org
SUMMARY:Lanzamiento de la nueva imagen y la E – Commerce del Barrio San Francisco
DESCRIPTION:
URL:https://www.saraki.org/event/lanzamiento-de-la-nueva-imagen-y-la-e-commerce-del-barrio-san-francisco/
CATEGORIES:Eventos
ATTACH;FMTTYPE=image/jpeg:https://www.saraki.org/wp-content/uploads/2022/02/2.jpeg
END:VEVENT
BEGIN:VEVENT
DTSTART;VALUE=DATE:20220309
DTEND;VALUE=DATE:20220310
DTSTAMP:20260421T084353
CREATED:20220223T145107Z
LAST-MODIFIED:20220307T010928Z
UID:4211-1646784000-1646870399@www.saraki.org
SUMMARY:Entrega de certificados Centro de Alto Rendimiento
DESCRIPTION:
URL:https://www.saraki.org/event/entrega-de-certificados-centro-de-alto-rendimiento-car/
CATEGORIES:Eventos
ATTACH;FMTTYPE=image/png:https://www.saraki.org/wp-content/uploads/2022/02/a.png
END:VEVENT
END:VCALENDAR